BEGIN:VCALENDAR
VERSION:2.0
BEGIN:VEVENT
URL:https://theworkersclub.oztix.com.au/outlet/event/f2b35ff6-73ce-44a8-a79e-90bdb35b5136
DTSTART:20260429T090000Z
DTEND:20260429T090000Z
SUMMARY:RESIDENCY: Midweek Shuffle: Blues & Country ft. Cameron Gould
DESCRIPTION:Event details: https://theworkersclub.oztix.com.au/outlet/event/f2b35ff6-73ce-44a8-a79e-90bdb35b5136
LOCATION:The Workers Club (Fitzroy, VIC)
END:VEVENT
END:VCALENDAR