BEGIN:VCALENDAR
VERSION:2.0
BEGIN:VEVENT
URL:https://theworkersclub.oztix.com.au/outlet/event/c76b4d54-2a4a-4e72-9776-08af0dfb45ec
DTSTART:20260421T090000Z
DTEND:20260421T090000Z
SUMMARY:RESIDENCY: Mutton Tuesdays ft. Mary & the Little Lambs
DESCRIPTION:Event details: https://theworkersclub.oztix.com.au/outlet/event/c76b4d54-2a4a-4e72-9776-08af0dfb45ec
LOCATION:The Workers Club (Fitzroy, VIC)
END:VEVENT
END:VCALENDAR