BEGIN:VCALENDAR
VERSION:2.0
BEGIN:VEVENT
URL:https://theworkersclub.oztix.com.au/outlet/event/7144a7e5-6216-4272-9f66-39b624e4fb8c
DTSTART:20260506T090000Z
DTEND:20260506T090000Z
SUMMARY:Red Vs Blue Show
DESCRIPTION:Event details: https://theworkersclub.oztix.com.au/outlet/event/7144a7e5-6216-4272-9f66-39b624e4fb8c
LOCATION:The Workers Club (Fitzroy, VIC)
END:VEVENT
END:VCALENDAR